{ "currentVersion": 10.71, "serviceDescription": "
Ai sensi della normativa vigente le trasformazioni urbanistiche assoggettate a pianificazione attuativa devono garantire, a supporto delle diverse funzioni insediate, una corrispondente dotazione minima di aree per attrezzature pubbliche e di interesse pubblico o generale.<\/SPAN><\/P> Con deliberazione dell Consiglio Comunale n. 28 Registro C.C. del 18/03/2013 si รจ provveduto a determinare i criteri e i valori della monetizzazione di aree a standard non reperite nell'ambito di Piani attuativi e per mutamenti delle <\/SPAN>d<\/SPAN>estinazioni d'uso di immobili.<\/SPAN><\/P> Consulta<\/SPAN>re<\/SPAN>la mappa per conoscere i valori minimi inderogabili.<\/SPAN><\/P> Si precisa che i suindicati valori minimi inderogabili di monetizzazione saranno oggetto di aggiornamento a cadenza annuale, sulla base dell'aggiornamento valori OMI da parte dell'Agenzia Territorio.<\/SPAN><\/P><\/DIV><\/DIV><\/DIV>",
"mapName": "Layers",
"description": "",
"copyrightText": "Comune di Bergamo",
"supportsDynamicLayers": false,
"layers": [
{
"id": 0,
"name": "_#Area di interesse - confine comunale",
"parentLayerId": -1,
"defaultVisibility": true,
"subLayerIds": null,
"minScale": 0,
"maxScale": 20000,
"type": "Feature Layer",
"geometryType": "esriGeometryPolygon"
},
{
"id": 1,
"name": "Valori minimi inderogabili di monetizzazione (anno 2013)",
"parentLayerId": -1,
"defaultVisibility": true,
"subLayerIds": null,
"minScale": 10000,
"maxScale": 0,
"type": "Feature Layer",
"geometryType": "esriGeometryPolygon"
}
],
"tables": [],
"spatialReference": {
"wkid": 32632,
"latestWkid": 32632
},
"singleFusedMapCache": true,
"tileInfo": {
"rows": 256,
"cols": 256,
"dpi": 96,
"format": "PNG",
"compressionQuality": 0,
"origin": {
"x": -5120900,
"y": 9998100
},
"spatialReference": {
"wkid": 32632,
"latestWkid": 32632
},
"lods": [
{
"level": 0,
"resolution": 132.2919312505292,
"scale": 500000
},
{
"level": 1,
"resolution": 39.687579375158755,
"scale": 150000
},
{
"level": 2,
"resolution": 15.875031750063501,
"scale": 60000
},
{
"level": 3,
"resolution": 7.9375158750317505,
"scale": 30000
},
{
"level": 4,
"resolution": 2.6458386250105836,
"scale": 10000
},
{
"level": 5,
"resolution": 1.3229193125052918,
"scale": 5000
},
{
"level": 6,
"resolution": 0.5291677250021167,
"scale": 2000
},
{
"level": 7,
"resolution": 0.26458386250105836,
"scale": 1000
},
{
"level": 8,
"resolution": 0.13229193125052918,
"scale": 500
}
]
},
"initialExtent": {
"xmin": 544109.0222068039,
"ymin": 5054429.173001874,
"xmax": 560513.2216818695,
"ymax": 5065634.299578793,
"spatialReference": {
"wkid": 32632,
"latestWkid": 32632
}
},
"fullExtent": {
"xmin": 548194.8266314715,
"ymin": 5055973.523727916,
"xmax": 555570.1655426985,
"ymax": 5064439.199551254,
"spatialReference": {
"wkid": 32632,
"latestWkid": 32632
}
},
"minScale": 500000,
"maxScale": 500,
"units": "esriMeters",
"supportedImageFormatTypes": "PNG32,PNG24,PNG,JPG,DIB,TIFF,EMF,PS,PDF,GIF,SVG,SVGZ,BMP",
"documentInfo": {
"Title": "AreeStandard",
"Author": "Administrator",
"Comments": "",
"Subject": "",
"Category": "",
"AntialiasingMode": "None",
"TextAntialiasingMode": "Force",
"Keywords": "Urbanistica e pianificazione,Edilizia"
},
"capabilities": "Map,Query,Data",
"supportedQueryFormats": "JSON, geoJSON",
"exportTilesAllowed": false,
"datumTransformations": [
{
"geoTransforms": [
{
"wkid": 108001,
"latestWkid": 1241,
"transformForward": true,
"name": "NAD_1927_To_NAD_1983_NADCON"
}
]
},
{
"geoTransforms": [
{
"wkid": 108001,
"latestWkid": 1241,
"transformForward": false,
"name": "NAD_1927_To_NAD_1983_NADCON"
}
]
}
],
"supportsDatumTransformation": true,
"maxRecordCount": 1000,
"maxImageHeight": 4096,
"maxImageWidth": 4096,
"supportedExtensions": ""
}