{ "currentVersion": 10.71, "serviceDescription": "
Ortofoto ottenuta da una mosaicatura semi-automatica delle immagini acquisite dalla ditta C.G.R. - Compagnia Generale Ripreseaeree di Parma nel contesto della fornitura del prodotto BLOM-Oblique(C).<\/SPAN><\/P> La dimensione al suolo del pixel (risoluzione spaziale) รจ di 0.1<\/SPAN>0<\/SPAN> metri.<\/SPAN><\/P><\/DIV><\/DIV><\/DIV>",
"mapName": "Layers",
"description": "",
"copyrightText": "Comune di Bergamo",
"supportsDynamicLayers": false,
"layers": [
{
"id": 0,
"name": "_Copertura",
"parentLayerId": -1,
"defaultVisibility": true,
"subLayerIds": null,
"minScale": 250000,
"maxScale": 10000,
"type": "Feature Layer",
"geometryType": "esriGeometryPolygon"
},
{
"id": 1,
"name": "Ortofoto",
"parentLayerId": -1,
"defaultVisibility": true,
"subLayerIds": [
2,
3,
4,
5,
6,
7,
8,
9,
10,
11,
12,
13,
14,
15,
16,
17,
18,
19,
20,
21,
22,
23,
24,
25,
26,
27,
28,
29,
30
],
"minScale": 10000,
"maxScale": 0,
"type": "Group Layer"
},
{
"id": 2,
"name": "_#32_54605058_irfan.tif",
"parentLayerId": 1,
"defaultVisibility": true,
"subLayerIds": null,
"minScale": 0,
"maxScale": 0,
"type": "Raster Layer"
},
{
"id": 3,
"name": "_#32_54605060_irfan.tif",
"parentLayerId": 1,
"defaultVisibility": true,
"subLayerIds": null,
"minScale": 0,
"maxScale": 0,
"type": "Raster Layer"
},
{
"id": 4,
"name": "_#32_54605062_irfan.tif",
"parentLayerId": 1,
"defaultVisibility": true,
"subLayerIds": null,
"minScale": 0,
"maxScale": 0,
"type": "Raster Layer"
},
{
"id": 5,
"name": "_#32_54605064_irfan.tif",
"parentLayerId": 1,
"defaultVisibility": true,
"subLayerIds": null,
"minScale": 0,
"maxScale": 0,
"type": "Raster Layer"
},
{
"id": 6,
"name": "_#32_54805054_irfan.tif",
"parentLayerId": 1,
"defaultVisibility": true,
"subLayerIds": null,
"minScale": 0,
"maxScale": 0,
"type": "Raster Layer"
},
{
"id": 7,
"name": "_#32_54805056_irfan.tif",
"parentLayerId": 1,
"defaultVisibility": true,
"subLayerIds": null,
"minScale": 0,
"maxScale": 0,
"type": "Raster Layer"
},
{
"id": 8,
"name": "_#32_54805058_irfan.tif",
"parentLayerId": 1,
"defaultVisibility": true,
"subLayerIds": null,
"minScale": 0,
"maxScale": 0,
"type": "Raster Layer"
},
{
"id": 9,
"name": "_#32_54805060_irfan.tif",
"parentLayerId": 1,
"defaultVisibility": true,
"subLayerIds": null,
"minScale": 0,
"maxScale": 0,
"type": "Raster Layer"
},
{
"id": 10,
"name": "_#32_54805062_irfan.tif",
"parentLayerId": 1,
"defaultVisibility": true,
"subLayerIds": null,
"minScale": 0,
"maxScale": 0,
"type": "Raster Layer"
},
{
"id": 11,
"name": "_#32_54805064_irfan.tif",
"parentLayerId": 1,
"defaultVisibility": true,
"subLayerIds": null,
"minScale": 0,
"maxScale": 0,
"type": "Raster Layer"
},
{
"id": 12,
"name": "_#32_55005054_irfan.tif",
"parentLayerId": 1,
"defaultVisibility": true,
"subLayerIds": null,
"minScale": 0,
"maxScale": 0,
"type": "Raster Layer"
},
{
"id": 13,
"name": "_#32_55005056_irfan.tif",
"parentLayerId": 1,
"defaultVisibility": true,
"subLayerIds": null,
"minScale": 0,
"maxScale": 0,
"type": "Raster Layer"
},
{
"id": 14,
"name": "_#32_55005058_irfan.tif",
"parentLayerId": 1,
"defaultVisibility": true,
"subLayerIds": null,
"minScale": 0,
"maxScale": 0,
"type": "Raster Layer"
},
{
"id": 15,
"name": "_#32_55005060_irfan.tif",
"parentLayerId": 1,
"defaultVisibility": true,
"subLayerIds": null,
"minScale": 0,
"maxScale": 0,
"type": "Raster Layer"
},
{
"id": 16,
"name": "_#32_55005062_irfan.tif",
"parentLayerId": 1,
"defaultVisibility": true,
"subLayerIds": null,
"minScale": 0,
"maxScale": 0,
"type": "Raster Layer"
},
{
"id": 17,
"name": "_#32_55005064_irfan.tif",
"parentLayerId": 1,
"defaultVisibility": true,
"subLayerIds": null,
"minScale": 0,
"maxScale": 0,
"type": "Raster Layer"
},
{
"id": 18,
"name": "_#32_55205054_irfan.tif",
"parentLayerId": 1,
"defaultVisibility": true,
"subLayerIds": null,
"minScale": 0,
"maxScale": 0,
"type": "Raster Layer"
},
{
"id": 19,
"name": "_#32_55205056_irfan.tif",
"parentLayerId": 1,
"defaultVisibility": true,
"subLayerIds": null,
"minScale": 0,
"maxScale": 0,
"type": "Raster Layer"
},
{
"id": 20,
"name": "_#32_55205058_irfan.tif",
"parentLayerId": 1,
"defaultVisibility": true,
"subLayerIds": null,
"minScale": 0,
"maxScale": 0,
"type": "Raster Layer"
},
{
"id": 21,
"name": "_#32_55205060_irfan.tif",
"parentLayerId": 1,
"defaultVisibility": true,
"subLayerIds": null,
"minScale": 0,
"maxScale": 0,
"type": "Raster Layer"
},
{
"id": 22,
"name": "_#32_55205062_irfan.tif",
"parentLayerId": 1,
"defaultVisibility": true,
"subLayerIds": null,
"minScale": 0,
"maxScale": 0,
"type": "Raster Layer"
},
{
"id": 23,
"name": "_#32_55205064_irfan.tif",
"parentLayerId": 1,
"defaultVisibility": true,
"subLayerIds": null,
"minScale": 0,
"maxScale": 0,
"type": "Raster Layer"
},
{
"id": 24,
"name": "_#32_55405056_irfan.tif",
"parentLayerId": 1,
"defaultVisibility": true,
"subLayerIds": null,
"minScale": 0,
"maxScale": 0,
"type": "Raster Layer"
},
{
"id": 25,
"name": "_#32_55405058_irfan.tif",
"parentLayerId": 1,
"defaultVisibility": true,
"subLayerIds": null,
"minScale": 0,
"maxScale": 0,
"type": "Raster Layer"
},
{
"id": 26,
"name": "_#32_55405060_irfan.tif",
"parentLayerId": 1,
"defaultVisibility": true,
"subLayerIds": null,
"minScale": 0,
"maxScale": 0,
"type": "Raster Layer"
},
{
"id": 27,
"name": "_#32_55405062_irfan.tif",
"parentLayerId": 1,
"defaultVisibility": true,
"subLayerIds": null,
"minScale": 0,
"maxScale": 0,
"type": "Raster Layer"
},
{
"id": 28,
"name": "_#32_55405064_irfan.tif",
"parentLayerId": 1,
"defaultVisibility": true,
"subLayerIds": null,
"minScale": 0,
"maxScale": 0,
"type": "Raster Layer"
},
{
"id": 29,
"name": "_#32_55605058_irfan.tif",
"parentLayerId": 1,
"defaultVisibility": true,
"subLayerIds": null,
"minScale": 0,
"maxScale": 0,
"type": "Raster Layer"
},
{
"id": 30,
"name": "_#32_55605060_irfan.tif",
"parentLayerId": 1,
"defaultVisibility": true,
"subLayerIds": null,
"minScale": 0,
"maxScale": 0,
"type": "Raster Layer"
}
],
"tables": [],
"spatialReference": {
"wkid": 32632,
"latestWkid": 32632
},
"singleFusedMapCache": true,
"tileInfo": {
"rows": 256,
"cols": 256,
"dpi": 96,
"format": "PNG",
"compressionQuality": 0,
"origin": {
"x": -5120900,
"y": 9998100
},
"spatialReference": {
"wkid": 32632,
"latestWkid": 32632
},
"lods": [
{
"level": 0,
"resolution": 132.2919312505292,
"scale": 500000
},
{
"level": 1,
"resolution": 39.687579375158755,
"scale": 150000
},
{
"level": 2,
"resolution": 15.875031750063501,
"scale": 60000
},
{
"level": 3,
"resolution": 7.9375158750317505,
"scale": 30000
},
{
"level": 4,
"resolution": 2.6458386250105836,
"scale": 10000
},
{
"level": 5,
"resolution": 1.3229193125052918,
"scale": 5000
},
{
"level": 6,
"resolution": 0.5291677250021167,
"scale": 2000
},
{
"level": 7,
"resolution": 0.26458386250105836,
"scale": 1000
},
{
"level": 8,
"resolution": 0.13229193125052918,
"scale": 500
}
]
},
"initialExtent": {
"xmin": 543640.4789215501,
"ymin": 5054402.384601299,
"xmax": 560547.3877353666,
"ymax": 5065607.511178218,
"spatialReference": {
"wkid": 32632,
"latestWkid": 32632
}
},
"fullExtent": {
"xmin": 547997.7617266204,
"ymin": 5054904.943486426,
"xmax": 555997.3899391429,
"ymax": 5064904.616487627,
"spatialReference": {
"wkid": 32632,
"latestWkid": 32632
}
},
"minScale": 500000,
"maxScale": 500,
"units": "esriMeters",
"supportedImageFormatTypes": "PNG32,PNG24,PNG,JPG,DIB,TIFF,EMF,PS,PDF,GIF,SVG,SVGZ,BMP",
"documentInfo": {
"Title": "OrtofotoCGR2010",
"Author": "Administrator",
"Comments": "",
"Subject": "",
"Category": "",
"AntialiasingMode": "None",
"TextAntialiasingMode": "Force",
"Keywords": "Ambiente paesaggio ed ecologia,Edilizia,Urbanistica e pianificazione"
},
"capabilities": "Map,Query,Data",
"supportedQueryFormats": "JSON, geoJSON",
"exportTilesAllowed": false,
"datumTransformations": [
{
"geoTransforms": [
{
"wkid": 108001,
"latestWkid": 1241,
"transformForward": true,
"name": "NAD_1927_To_NAD_1983_NADCON"
}
]
},
{
"geoTransforms": [
{
"wkid": 108001,
"latestWkid": 1241,
"transformForward": false,
"name": "NAD_1927_To_NAD_1983_NADCON"
}
]
}
],
"supportsDatumTransformation": true,
"maxRecordCount": 1000,
"maxImageHeight": 4096,
"maxImageWidth": 4096,
"supportedExtensions": "KmlServer, WMSServer"
}