{ "currentVersion": 10.71, "serviceDescription": "
Ortofoto acquisite dalla ditta Terra Messflug GmbH.<\/SPAN><\/P> La dimensione al suolo del pixel (risoluzione spaziale) รจ di 0.10 metri.<\/SPAN><\/P><\/DIV><\/DIV><\/DIV>",
"mapName": "Layers",
"description": "",
"copyrightText": "Comune di Bergamo",
"supportsDynamicLayers": false,
"layers": [
{
"id": 0,
"name": "_Copertura = confine comunale",
"parentLayerId": -1,
"defaultVisibility": true,
"subLayerIds": null,
"minScale": 0,
"maxScale": 0,
"type": "Feature Layer",
"geometryType": "esriGeometryPolyline"
},
{
"id": 1,
"name": "Ortofoto2016",
"parentLayerId": -1,
"defaultVisibility": true,
"subLayerIds": [
2
],
"minScale": 10000,
"maxScale": 0,
"type": "Group Layer"
},
{
"id": 2,
"name": "_#Ortofoto2016",
"parentLayerId": 1,
"defaultVisibility": true,
"subLayerIds": null,
"minScale": 0,
"maxScale": 0,
"type": "Raster Layer"
}
],
"tables": [],
"spatialReference": {
"wkid": 32632,
"latestWkid": 32632
},
"singleFusedMapCache": true,
"tileInfo": {
"rows": 256,
"cols": 256,
"dpi": 96,
"format": "PNG",
"compressionQuality": 0,
"origin": {
"x": -5120900,
"y": 9998100
},
"spatialReference": {
"wkid": 32632,
"latestWkid": 32632
},
"lods": [
{
"level": 0,
"resolution": 132.2919312505292,
"scale": 500000
},
{
"level": 1,
"resolution": 39.687579375158755,
"scale": 150000
},
{
"level": 2,
"resolution": 15.875031750063501,
"scale": 60000
},
{
"level": 3,
"resolution": 7.9375158750317505,
"scale": 30000
},
{
"level": 4,
"resolution": 2.6458386250105836,
"scale": 10000
},
{
"level": 5,
"resolution": 1.3229193125052918,
"scale": 5000
},
{
"level": 6,
"resolution": 0.5291677250021167,
"scale": 2000
},
{
"level": 7,
"resolution": 0.26458386250105836,
"scale": 1000
},
{
"level": 8,
"resolution": 0.13229193125052918,
"scale": 500
}
]
},
"initialExtent": {
"xmin": 544020.3723784746,
"ymin": 5057692.325626716,
"xmax": 559974.7792872884,
"ymax": 5066294.787922081,
"spatialReference": {
"wkid": 32632,
"latestWkid": 32632
}
},
"fullExtent": {
"xmin": 544020.3723784746,
"ymin": 5054196.383153565,
"xmax": 559974.7792872884,
"ymax": 5065613.176820487,
"spatialReference": {
"wkid": 32632,
"latestWkid": 32632
}
},
"minScale": 500000,
"maxScale": 500,
"units": "esriMeters",
"supportedImageFormatTypes": "PNG32,PNG24,PNG,JPG,DIB,TIFF,EMF,PS,PDF,GIF,SVG,SVGZ,BMP",
"documentInfo": {
"Title": "OrtofotoCGR2010",
"Author": "Administrator",
"Comments": "",
"Subject": "",
"Category": "",
"AntialiasingMode": "None",
"TextAntialiasingMode": "Force",
"Keywords": "Ambiente paesaggio ed ecologia,Edilizia,Urbanistica e pianificazione"
},
"capabilities": "Map,Query,Data",
"supportedQueryFormats": "JSON, geoJSON",
"exportTilesAllowed": false,
"datumTransformations": [
{
"geoTransforms": [
{
"wkid": 108001,
"latestWkid": 1241,
"transformForward": true,
"name": "NAD_1927_To_NAD_1983_NADCON"
}
]
},
{
"geoTransforms": [
{
"wkid": 108001,
"latestWkid": 1241,
"transformForward": false,
"name": "NAD_1927_To_NAD_1983_NADCON"
}
]
}
],
"supportsDatumTransformation": true,
"maxRecordCount": 1000,
"maxImageHeight": 4096,
"maxImageWidth": 4096,
"supportedExtensions": "KmlServer, WMSServer"
}