{ "currentVersion": 10.71, "serviceDescription": "
Ortofoto ottenuta da una mosaicatura semi-automatica delle immagini acquisite dalla ditta C.G.R. - Compagnia Generale Ripreseaeree di <\/SPAN>Parma.<\/SPAN><\/P> La dimensione al suolo del pixel (risoluzione spaziale) รจ di 0.<\/SPAN>10 metri.<\/SPAN><\/P><\/DIV><\/DIV><\/DIV>",
"mapName": "Layers",
"description": "",
"copyrightText": "Comune di Bergamo",
"supportsDynamicLayers": false,
"layers": [
{
"id": 0,
"name": "_Copertura_Ortofoto_Bergamo023",
"parentLayerId": -1,
"defaultVisibility": true,
"subLayerIds": null,
"minScale": 0,
"maxScale": 0,
"type": "Feature Layer",
"geometryType": "esriGeometryPolygon"
},
{
"id": 1,
"name": "_confine comunale",
"parentLayerId": -1,
"defaultVisibility": true,
"subLayerIds": null,
"minScale": 0,
"maxScale": 0,
"type": "Feature Layer",
"geometryType": "esriGeometryPolyline"
},
{
"id": 2,
"name": "Ortofoto_singole_TIF",
"parentLayerId": -1,
"defaultVisibility": true,
"subLayerIds": [
3,
4,
5,
6,
7,
8,
9,
10,
11,
12,
13,
14,
15,
16,
17,
18,
19,
20,
21,
22,
23,
24,
25,
26,
27,
28,
29,
30,
31,
32,
33,
34,
35,
36,
37,
38,
39,
40,
41,
42,
43,
44,
45,
46,
47,
48,
49,
50,
51,
52,
53,
54,
55,
56,
57,
58,
59,
60,
61,
62
],
"minScale": 10000,
"maxScale": 0,
"type": "Group Layer"
},
{
"id": 3,
"name": "_#548000_5059000.tif",
"parentLayerId": 2,
"defaultVisibility": true,
"subLayerIds": null,
"minScale": 0,
"maxScale": 0,
"type": "Raster Layer"
},
{
"id": 4,
"name": "_#548000_5060000.tif",
"parentLayerId": 2,
"defaultVisibility": true,
"subLayerIds": null,
"minScale": 0,
"maxScale": 0,
"type": "Raster Layer"
},
{
"id": 5,
"name": "_#548000_5061000.tif",
"parentLayerId": 2,
"defaultVisibility": true,
"subLayerIds": null,
"minScale": 0,
"maxScale": 0,
"type": "Raster Layer"
},
{
"id": 6,
"name": "_#548000_5062000.tif",
"parentLayerId": 2,
"defaultVisibility": true,
"subLayerIds": null,
"minScale": 0,
"maxScale": 0,
"type": "Raster Layer"
},
{
"id": 7,
"name": "_#548000_5063000.tif",
"parentLayerId": 2,
"defaultVisibility": true,
"subLayerIds": null,
"minScale": 0,
"maxScale": 0,
"type": "Raster Layer"
},
{
"id": 8,
"name": "_#548000_5064000.tif",
"parentLayerId": 2,
"defaultVisibility": true,
"subLayerIds": null,
"minScale": 0,
"maxScale": 0,
"type": "Raster Layer"
},
{
"id": 9,
"name": "_#549000_5056000.tif",
"parentLayerId": 2,
"defaultVisibility": true,
"subLayerIds": null,
"minScale": 0,
"maxScale": 0,
"type": "Raster Layer"
},
{
"id": 10,
"name": "_#549000_5057000.tif",
"parentLayerId": 2,
"defaultVisibility": true,
"subLayerIds": null,
"minScale": 0,
"maxScale": 0,
"type": "Raster Layer"
},
{
"id": 11,
"name": "_#549000_5058000.tif",
"parentLayerId": 2,
"defaultVisibility": true,
"subLayerIds": null,
"minScale": 0,
"maxScale": 0,
"type": "Raster Layer"
},
{
"id": 12,
"name": "_#549000_5059000.tif",
"parentLayerId": 2,
"defaultVisibility": true,
"subLayerIds": null,
"minScale": 0,
"maxScale": 0,
"type": "Raster Layer"
},
{
"id": 13,
"name": "_#549000_5060000.tif",
"parentLayerId": 2,
"defaultVisibility": true,
"subLayerIds": null,
"minScale": 0,
"maxScale": 0,
"type": "Raster Layer"
},
{
"id": 14,
"name": "_#549000_5061000.tif",
"parentLayerId": 2,
"defaultVisibility": true,
"subLayerIds": null,
"minScale": 0,
"maxScale": 0,
"type": "Raster Layer"
},
{
"id": 15,
"name": "_#549000_5062000.tif",
"parentLayerId": 2,
"defaultVisibility": true,
"subLayerIds": null,
"minScale": 0,
"maxScale": 0,
"type": "Raster Layer"
},
{
"id": 16,
"name": "_#549000_5063000.tif",
"parentLayerId": 2,
"defaultVisibility": true,
"subLayerIds": null,
"minScale": 0,
"maxScale": 0,
"type": "Raster Layer"
},
{
"id": 17,
"name": "_#549000_5064000.tif",
"parentLayerId": 2,
"defaultVisibility": true,
"subLayerIds": null,
"minScale": 0,
"maxScale": 0,
"type": "Raster Layer"
},
{
"id": 18,
"name": "_#550000_5056000.tif",
"parentLayerId": 2,
"defaultVisibility": true,
"subLayerIds": null,
"minScale": 0,
"maxScale": 0,
"type": "Raster Layer"
},
{
"id": 19,
"name": "_#550000_5057000.tif",
"parentLayerId": 2,
"defaultVisibility": true,
"subLayerIds": null,
"minScale": 0,
"maxScale": 0,
"type": "Raster Layer"
},
{
"id": 20,
"name": "_#550000_5058000.tif",
"parentLayerId": 2,
"defaultVisibility": true,
"subLayerIds": null,
"minScale": 0,
"maxScale": 0,
"type": "Raster Layer"
},
{
"id": 21,
"name": "_#550000_5059000.tif",
"parentLayerId": 2,
"defaultVisibility": true,
"subLayerIds": null,
"minScale": 0,
"maxScale": 0,
"type": "Raster Layer"
},
{
"id": 22,
"name": "_#550000_5060000.tif",
"parentLayerId": 2,
"defaultVisibility": true,
"subLayerIds": null,
"minScale": 0,
"maxScale": 0,
"type": "Raster Layer"
},
{
"id": 23,
"name": "_#550000_5061000.tif",
"parentLayerId": 2,
"defaultVisibility": true,
"subLayerIds": null,
"minScale": 0,
"maxScale": 0,
"type": "Raster Layer"
},
{
"id": 24,
"name": "_#550000_5062000.tif",
"parentLayerId": 2,
"defaultVisibility": true,
"subLayerIds": null,
"minScale": 0,
"maxScale": 0,
"type": "Raster Layer"
},
{
"id": 25,
"name": "_#550000_5063000.tif",
"parentLayerId": 2,
"defaultVisibility": true,
"subLayerIds": null,
"minScale": 0,
"maxScale": 0,
"type": "Raster Layer"
},
{
"id": 26,
"name": "_#550000_5064000.tif",
"parentLayerId": 2,
"defaultVisibility": true,
"subLayerIds": null,
"minScale": 0,
"maxScale": 0,
"type": "Raster Layer"
},
{
"id": 27,
"name": "_#551000_5055000.tif",
"parentLayerId": 2,
"defaultVisibility": true,
"subLayerIds": null,
"minScale": 0,
"maxScale": 0,
"type": "Raster Layer"
},
{
"id": 28,
"name": "_#551000_5056000.tif",
"parentLayerId": 2,
"defaultVisibility": true,
"subLayerIds": null,
"minScale": 0,
"maxScale": 0,
"type": "Raster Layer"
},
{
"id": 29,
"name": "_#551000_5057000.tif",
"parentLayerId": 2,
"defaultVisibility": true,
"subLayerIds": null,
"minScale": 0,
"maxScale": 0,
"type": "Raster Layer"
},
{
"id": 30,
"name": "_#551000_5058000.tif",
"parentLayerId": 2,
"defaultVisibility": true,
"subLayerIds": null,
"minScale": 0,
"maxScale": 0,
"type": "Raster Layer"
},
{
"id": 31,
"name": "_#551000_5059000.tif",
"parentLayerId": 2,
"defaultVisibility": true,
"subLayerIds": null,
"minScale": 0,
"maxScale": 0,
"type": "Raster Layer"
},
{
"id": 32,
"name": "_#551000_5060000.tif",
"parentLayerId": 2,
"defaultVisibility": true,
"subLayerIds": null,
"minScale": 0,
"maxScale": 0,
"type": "Raster Layer"
},
{
"id": 33,
"name": "_#551000_5061000.tif",
"parentLayerId": 2,
"defaultVisibility": true,
"subLayerIds": null,
"minScale": 0,
"maxScale": 0,
"type": "Raster Layer"
},
{
"id": 34,
"name": "_#551000_5062000.tif",
"parentLayerId": 2,
"defaultVisibility": true,
"subLayerIds": null,
"minScale": 0,
"maxScale": 0,
"type": "Raster Layer"
},
{
"id": 35,
"name": "_#551000_5063000.tif",
"parentLayerId": 2,
"defaultVisibility": true,
"subLayerIds": null,
"minScale": 0,
"maxScale": 0,
"type": "Raster Layer"
},
{
"id": 36,
"name": "_#552000_5056000.tif",
"parentLayerId": 2,
"defaultVisibility": true,
"subLayerIds": null,
"minScale": 0,
"maxScale": 0,
"type": "Raster Layer"
},
{
"id": 37,
"name": "_#552000_5057000.tif",
"parentLayerId": 2,
"defaultVisibility": true,
"subLayerIds": null,
"minScale": 0,
"maxScale": 0,
"type": "Raster Layer"
},
{
"id": 38,
"name": "_#552000_5058000.tif",
"parentLayerId": 2,
"defaultVisibility": true,
"subLayerIds": null,
"minScale": 0,
"maxScale": 0,
"type": "Raster Layer"
},
{
"id": 39,
"name": "_#552000_5059000.tif",
"parentLayerId": 2,
"defaultVisibility": true,
"subLayerIds": null,
"minScale": 0,
"maxScale": 0,
"type": "Raster Layer"
},
{
"id": 40,
"name": "_#552000_5060000.tif",
"parentLayerId": 2,
"defaultVisibility": true,
"subLayerIds": null,
"minScale": 0,
"maxScale": 0,
"type": "Raster Layer"
},
{
"id": 41,
"name": "_#552000_5061000.tif",
"parentLayerId": 2,
"defaultVisibility": true,
"subLayerIds": null,
"minScale": 0,
"maxScale": 0,
"type": "Raster Layer"
},
{
"id": 42,
"name": "_#552000_5062000.tif",
"parentLayerId": 2,
"defaultVisibility": true,
"subLayerIds": null,
"minScale": 0,
"maxScale": 0,
"type": "Raster Layer"
},
{
"id": 43,
"name": "_#552000_5063000.tif",
"parentLayerId": 2,
"defaultVisibility": true,
"subLayerIds": null,
"minScale": 0,
"maxScale": 0,
"type": "Raster Layer"
},
{
"id": 44,
"name": "_#552000_5064000.tif",
"parentLayerId": 2,
"defaultVisibility": true,
"subLayerIds": null,
"minScale": 0,
"maxScale": 0,
"type": "Raster Layer"
},
{
"id": 45,
"name": "_#553000_5056000.tif",
"parentLayerId": 2,
"defaultVisibility": true,
"subLayerIds": null,
"minScale": 0,
"maxScale": 0,
"type": "Raster Layer"
},
{
"id": 46,
"name": "_#553000_5057000.tif",
"parentLayerId": 2,
"defaultVisibility": true,
"subLayerIds": null,
"minScale": 0,
"maxScale": 0,
"type": "Raster Layer"
},
{
"id": 47,
"name": "_#553000_5058000.tif",
"parentLayerId": 2,
"defaultVisibility": true,
"subLayerIds": null,
"minScale": 0,
"maxScale": 0,
"type": "Raster Layer"
},
{
"id": 48,
"name": "_#553000_5059000.tif",
"parentLayerId": 2,
"defaultVisibility": true,
"subLayerIds": null,
"minScale": 0,
"maxScale": 0,
"type": "Raster Layer"
},
{
"id": 49,
"name": "_#553000_5060000.tif",
"parentLayerId": 2,
"defaultVisibility": true,
"subLayerIds": null,
"minScale": 0,
"maxScale": 0,
"type": "Raster Layer"
},
{
"id": 50,
"name": "_#553000_5061000.tif",
"parentLayerId": 2,
"defaultVisibility": true,
"subLayerIds": null,
"minScale": 0,
"maxScale": 0,
"type": "Raster Layer"
},
{
"id": 51,
"name": "_#553000_5062000.tif",
"parentLayerId": 2,
"defaultVisibility": true,
"subLayerIds": null,
"minScale": 0,
"maxScale": 0,
"type": "Raster Layer"
},
{
"id": 52,
"name": "_#553000_5063000.tif",
"parentLayerId": 2,
"defaultVisibility": true,
"subLayerIds": null,
"minScale": 0,
"maxScale": 0,
"type": "Raster Layer"
},
{
"id": 53,
"name": "_#553000_5064000.tif",
"parentLayerId": 2,
"defaultVisibility": true,
"subLayerIds": null,
"minScale": 0,
"maxScale": 0,
"type": "Raster Layer"
},
{
"id": 54,
"name": "_#554000_5058000.tif",
"parentLayerId": 2,
"defaultVisibility": true,
"subLayerIds": null,
"minScale": 0,
"maxScale": 0,
"type": "Raster Layer"
},
{
"id": 55,
"name": "_#554000_5059000.tif",
"parentLayerId": 2,
"defaultVisibility": true,
"subLayerIds": null,
"minScale": 0,
"maxScale": 0,
"type": "Raster Layer"
},
{
"id": 56,
"name": "_#554000_5060000.tif",
"parentLayerId": 2,
"defaultVisibility": true,
"subLayerIds": null,
"minScale": 0,
"maxScale": 0,
"type": "Raster Layer"
},
{
"id": 57,
"name": "_#554000_5061000.tif",
"parentLayerId": 2,
"defaultVisibility": true,
"subLayerIds": null,
"minScale": 0,
"maxScale": 0,
"type": "Raster Layer"
},
{
"id": 58,
"name": "_#554000_5062000.tif",
"parentLayerId": 2,
"defaultVisibility": true,
"subLayerIds": null,
"minScale": 0,
"maxScale": 0,
"type": "Raster Layer"
},
{
"id": 59,
"name": "_#554000_5063000.tif",
"parentLayerId": 2,
"defaultVisibility": true,
"subLayerIds": null,
"minScale": 0,
"maxScale": 0,
"type": "Raster Layer"
},
{
"id": 60,
"name": "_#555000_5059000.tif",
"parentLayerId": 2,
"defaultVisibility": true,
"subLayerIds": null,
"minScale": 0,
"maxScale": 0,
"type": "Raster Layer"
},
{
"id": 61,
"name": "_#555000_5060000.tif",
"parentLayerId": 2,
"defaultVisibility": true,
"subLayerIds": null,
"minScale": 0,
"maxScale": 0,
"type": "Raster Layer"
},
{
"id": 62,
"name": "_#555000_5061000.tif",
"parentLayerId": 2,
"defaultVisibility": true,
"subLayerIds": null,
"minScale": 0,
"maxScale": 0,
"type": "Raster Layer"
}
],
"tables": [],
"spatialReference": {
"wkid": 32632,
"latestWkid": 32632
},
"singleFusedMapCache": true,
"tileInfo": {
"rows": 256,
"cols": 256,
"dpi": 96,
"format": "PNG",
"compressionQuality": 0,
"origin": {
"x": -5120900,
"y": 9998100
},
"spatialReference": {
"wkid": 32632,
"latestWkid": 32632
},
"lods": [
{
"level": 0,
"resolution": 132.2919312505292,
"scale": 500000
},
{
"level": 1,
"resolution": 39.687579375158755,
"scale": 150000
},
{
"level": 2,
"resolution": 15.875031750063501,
"scale": 60000
},
{
"level": 3,
"resolution": 7.9375158750317505,
"scale": 30000
},
{
"level": 4,
"resolution": 2.6458386250105836,
"scale": 10000
},
{
"level": 5,
"resolution": 1.3229193125052918,
"scale": 5000
},
{
"level": 6,
"resolution": 0.5291677250021167,
"scale": 2000
},
{
"level": 7,
"resolution": 0.26458386250105836,
"scale": 1000
},
{
"level": 8,
"resolution": 0.13229193125052918,
"scale": 500
}
]
},
"initialExtent": {
"xmin": 544895.9232914089,
"ymin": 5054463.582797483,
"xmax": 559104.0767077159,
"ymax": 5065536.4174431525,
"spatialReference": {
"wkid": 32632,
"latestWkid": 32632
}
},
"fullExtent": {
"xmin": 547997.7617266204,
"ymin": 5054904.943486426,
"xmax": 555997.3899391429,
"ymax": 5064904.616487627,
"spatialReference": {
"wkid": 32632,
"latestWkid": 32632
}
},
"minScale": 500000,
"maxScale": 500,
"minLOD": 0,
"maxLOD": 8,
"units": "esriMeters",
"supportedImageFormatTypes": "PNG32,PNG24,PNG,JPG,DIB,TIFF,EMF,PS,PDF,GIF,SVG,SVGZ,BMP",
"documentInfo": {
"Title": "OrtofotoCGR2010",
"Author": "Administrator",
"Comments": "",
"Subject": "",
"Category": "",
"AntialiasingMode": "None",
"TextAntialiasingMode": "Force",
"Keywords": "Ambiente paesaggio ed ecologia,Edilizia,Urbanistica e pianificazione"
},
"capabilities": "Map,Query,Data",
"supportedQueryFormats": "JSON, geoJSON",
"exportTilesAllowed": false,
"datumTransformations": [
{
"geoTransforms": [
{
"wkid": 108001,
"latestWkid": 1241,
"transformForward": true,
"name": "NAD_1927_To_NAD_1983_NADCON"
}
]
},
{
"geoTransforms": [
{
"wkid": 108001,
"latestWkid": 1241,
"transformForward": false,
"name": "NAD_1927_To_NAD_1983_NADCON"
}
]
},
{
"geoTransforms": [
{
"wkt": "GEOGTRAN[\"ComBG_RDN08toR40\",GEOGCS[\"GCS_RDN2008\",DATUM[\"D_RDN2008\",SPHEROID[\"GRS_1980\",6378137.0,298.257222101]],PRIMEM[\"Greenwich\",0.0],UNIT[\"Degree\",0.0174532925199433]],GEOGCS[\"GCS_Roma_1940\",DATUM[\"D_Roma_1940\",SPHEROID[\"International_1924\",6378388.0,297.0]],PRIMEM[\"Greenwich\",0.0],UNIT[\"Degree\",0.0174532925199433]],METHOD[\"NTv2\"],PARAMETER[\"Dataset_italy/ComBG_RDN08toR40\",0.0]]",
"transformForward": true,
"name": "ComBG_RDN08toR40"
},
{
"wkt": "GEOGTRAN[\"ComBG_WGS84_to_R40\",GEOGCS[\"GCS_WGS_1984\",DATUM[\"D_WGS_1984\",SPHEROID[\"WGS_1984\",6378137.0,298.257223563]],PRIMEM[\"Greenwich\",0.0],UNIT[\"Degree\",0.0174532925199433]],GEOGCS[\"GCS_Roma_1940\",DATUM[\"D_Roma_1940\",SPHEROID[\"International_1924\",6378388.0,297.0]],PRIMEM[\"Greenwich\",0.0],UNIT[\"Degree\",0.0174532925199433]],METHOD[\"NTv2\"],PARAMETER[\"Dataset_italy/ComBG_WGS84toR40_NTV2s\",0.0]]",
"transformForward": false,
"name": "ComBG_WGS84_to_R40"
}
]
},
{
"geoTransforms": [
{
"wkt": "GEOGTRAN[\"ComBG_WGS84_to_R40\",GEOGCS[\"GCS_WGS_1984\",DATUM[\"D_WGS_1984\",SPHEROID[\"WGS_1984\",6378137.0,298.257223563]],PRIMEM[\"Greenwich\",0.0],UNIT[\"Degree\",0.0174532925199433]],GEOGCS[\"GCS_Roma_1940\",DATUM[\"D_Roma_1940\",SPHEROID[\"International_1924\",6378388.0,297.0]],PRIMEM[\"Greenwich\",0.0],UNIT[\"Degree\",0.0174532925199433]],METHOD[\"NTv2\"],PARAMETER[\"Dataset_italy/ComBG_WGS84toR40_NTV2s\",0.0]]",
"transformForward": true,
"name": "ComBG_WGS84_to_R40"
},
{
"wkt": "GEOGTRAN[\"ComBG_RDN08toR40\",GEOGCS[\"GCS_RDN2008\",DATUM[\"D_RDN2008\",SPHEROID[\"GRS_1980\",6378137.0,298.257222101]],PRIMEM[\"Greenwich\",0.0],UNIT[\"Degree\",0.0174532925199433]],GEOGCS[\"GCS_Roma_1940\",DATUM[\"D_Roma_1940\",SPHEROID[\"International_1924\",6378388.0,297.0]],PRIMEM[\"Greenwich\",0.0],UNIT[\"Degree\",0.0174532925199433]],METHOD[\"NTv2\"],PARAMETER[\"Dataset_italy/ComBG_RDN08toR40\",0.0]]",
"transformForward": false,
"name": "ComBG_RDN08toR40"
}
]
}
],
"supportsDatumTransformation": true,
"maxRecordCount": 1000,
"maxImageHeight": 4096,
"maxImageWidth": 4096,
"supportedExtensions": "KmlServer, WMSServer"
}