{ "currentVersion": 10.71, "serviceDescription": "
Ai sensi della Legge Regionale 10 marzo 2017 n. 7 \"Recupero dei vani e locali seminterrati esistenti\" è consentito il recupero dei vani e locali seminterrati ad uso residenziale, terziario o commerciale, ai fini di incentivare la rigenerazione urbana, contenere il consumo di suolo e favorire l'istallazione di impianti tecnologici di contenimento dei consumi energetici e delle emissioni in atmosfera.<\/SPAN><\/P> Con deliberazione del Consiglio Comunale n. 88 Registro C.C. del 03/07/2017 si è provveduto a determinare gli ambiti di esclusione per il recupero dei vani e locali seminterrati esistenti ai sensi del comma 1 dell'art. 4, in relazione a <\/SPAN>s<\/SPAN>pecifiche esigenze di tutela paesaggistica o igienico-sanitaria, di difesa del suolo e di rischio idrogeologico.<\/SPAN><\/P><\/DIV><\/DIV><\/DIV>",
"mapName": "Layers",
"description": "",
"copyrightText": "Comune di Bergamo",
"supportsDynamicLayers": false,
"layers": [
{
"id": 0,
"name": "_#Area di interesse - confine comunale",
"parentLayerId": -1,
"defaultVisibility": true,
"subLayerIds": null,
"minScale": 0,
"maxScale": 20000,
"type": "Feature Layer",
"geometryType": "esriGeometryPolyline"
},
{
"id": 1,
"name": "_#Seminterrati - Ambiti di Esclusione (art. 4 LR 7/2017)",
"parentLayerId": -1,
"defaultVisibility": true,
"subLayerIds": null,
"minScale": 0,
"maxScale": 0,
"type": "Feature Layer",
"geometryType": "esriGeometryPolygon"
},
{
"id": 2,
"name": "Seminterrati - Ambiti di Esclusione (art. 4 LR 7/2017)",
"parentLayerId": -1,
"defaultVisibility": true,
"subLayerIds": null,
"minScale": 30000,
"maxScale": 0,
"type": "Feature Layer",
"geometryType": "esriGeometryPolygon"
}
],
"tables": [],
"spatialReference": {
"wkid": 32632,
"latestWkid": 32632
},
"singleFusedMapCache": true,
"tileInfo": {
"rows": 256,
"cols": 256,
"dpi": 96,
"format": "PNG",
"compressionQuality": 0,
"origin": {
"x": -5120900,
"y": 9998100
},
"spatialReference": {
"wkid": 32632,
"latestWkid": 32632
},
"lods": [
{
"level": 0,
"resolution": 132.2919312505292,
"scale": 500000
},
{
"level": 1,
"resolution": 39.687579375158755,
"scale": 150000
},
{
"level": 2,
"resolution": 15.875031750063501,
"scale": 60000
},
{
"level": 3,
"resolution": 7.9375158750317505,
"scale": 30000
},
{
"level": 4,
"resolution": 2.6458386250105836,
"scale": 10000
},
{
"level": 5,
"resolution": 1.3229193125052918,
"scale": 5000
},
{
"level": 6,
"resolution": 0.5291677250021167,
"scale": 2000
},
{
"level": 7,
"resolution": 0.26458386250105836,
"scale": 1000
},
{
"level": 8,
"resolution": 0.13229193125052918,
"scale": 500
}
]
},
"initialExtent": {
"xmin": 545639.6906153774,
"ymin": 5058275.121526741,
"xmax": 558355.4610503856,
"ymax": 5064904.616487627,
"spatialReference": {
"wkid": 32632,
"latestWkid": 32632
}
},
"fullExtent": {
"xmin": 547997.7617266204,
"ymin": 5054904.943486426,
"xmax": 555997.3899391429,
"ymax": 5064904.616487627,
"spatialReference": {
"wkid": 32632,
"latestWkid": 32632
}
},
"minScale": 500000,
"maxScale": 500,
"units": "esriMeters",
"supportedImageFormatTypes": "PNG32,PNG24,PNG,JPG,DIB,TIFF,EMF,PS,PDF,GIF,SVG,SVGZ,BMP",
"documentInfo": {
"Title": "Vista_base",
"Author": "MaffeisAn",
"Comments": "",
"Subject": "",
"Category": "",
"AntialiasingMode": "None",
"TextAntialiasingMode": "Force",
"Keywords": "Edilizia,Urbanistica e pianificazione"
},
"capabilities": "Map,Query,Data",
"supportedQueryFormats": "JSON, geoJSON",
"exportTilesAllowed": false,
"datumTransformations": [
{
"geoTransforms": [
{
"wkid": 108001,
"latestWkid": 1241,
"transformForward": true,
"name": "NAD_1927_To_NAD_1983_NADCON"
}
]
},
{
"geoTransforms": [
{
"wkid": 108001,
"latestWkid": 1241,
"transformForward": false,
"name": "NAD_1927_To_NAD_1983_NADCON"
}
]
}
],
"supportsDatumTransformation": true,
"maxRecordCount": 1000,
"maxImageHeight": 4096,
"maxImageWidth": 4096,
"supportedExtensions": ""
}